BEGIN:VCALENDAR
VERSION:2.0
PRODID:-//Challenge Early Intervention New Site - ECPv6.15.20//NONSGML v1.0//EN
CALSCALE:GREGORIAN
METHOD:PUBLISH
X-ORIGINAL-URL:https://challenge-ei.com
X-WR-CALDESC:Events for Challenge Early Intervention New Site
REFRESH-INTERVAL;VALUE=DURATION:PT1H
X-Robots-Tag:noindex
X-PUBLISHED-TTL:PT1H
BEGIN:VTIMEZONE
TZID:America/New_York
BEGIN:DAYLIGHT
TZOFFSETFROM:-0500
TZOFFSETTO:-0400
TZNAME:EDT
DTSTART:20160313T070000
END:DAYLIGHT
BEGIN:STANDARD
TZOFFSETFROM:-0400
TZOFFSETTO:-0500
TZNAME:EST
DTSTART:20161106T060000
END:STANDARD
BEGIN:DAYLIGHT
TZOFFSETFROM:-0500
TZOFFSETTO:-0400
TZNAME:EDT
DTSTART:20170312T070000
END:DAYLIGHT
BEGIN:STANDARD
TZOFFSETFROM:-0400
TZOFFSETTO:-0500
TZNAME:EST
DTSTART:20171105T060000
END:STANDARD
BEGIN:DAYLIGHT
TZOFFSETFROM:-0500
TZOFFSETTO:-0400
TZNAME:EDT
DTSTART:20180311T070000
END:DAYLIGHT
BEGIN:STANDARD
TZOFFSETFROM:-0400
TZOFFSETTO:-0500
TZNAME:EST
DTSTART:20181104T060000
END:STANDARD
END:VTIMEZONE
BEGIN:VTIMEZONE
TZID:UTC
BEGIN:STANDARD
TZOFFSETFROM:+0000
TZOFFSETTO:+0000
TZNAME:UTC
DTSTART:20150101T000000
END:STANDARD
END:VTIMEZONE
BEGIN:VEVENT
DTSTART;TZID=America/New_York:20170607T091500
DTEND;TZID=America/New_York:20170607T111500
DTSTAMP:20260423T215827
CREATED:20170322T171623Z
LAST-MODIFIED:20180326T154832Z
UID:2724-1496826900-1496834100@challenge-ei.com
SUMMARY:Advocating Through Letter Writing\, 9:15 am - 11:15 am
DESCRIPTION:Advocating Through Letter Writing\nAn Interaci \nPresented by:\nEllen McHugh\, Lead Coordinator \n View Course Description \n  \nQuestions? Call 718.851.3300 ext 155\n[spacer]\n[button text=”Register Now” link=”/NewSite/register” style=”primary” size=”normal” target=”_self” display=”inline” icon=”no”]\n[spacer]
URL:https://challenge-ei.com/event/advocating-through-letter-writing/
LOCATION:Challenge Early Intervention Center\, 649  39th Street\, Brooklyn\, NY\, 11232\, United States
CATEGORIES:Parent Workshops
ATTACH;FMTTYPE=image/png:https://challenge-ei.com/wp-content/uploads/2017/05/updated-McHughdec2017English.png
END:VEVENT
BEGIN:VEVENT
DTSTART;TZID=America/New_York:20170524T114500
DTEND;TZID=America/New_York:20170524T134500
DTSTAMP:20260423T215827
CREATED:20170505T151339Z
LAST-MODIFIED:20180326T154839Z
UID:2790-1495626300-1495633500@challenge-ei.com
SUMMARY:Entrenamiento “Cuaderno De Cuidado De Salud“ 11:45 am - 1:45 pm
DESCRIPTION:Enrenamiento “Cuaderno De Cuidado De Salud”\nUn taller gratis para Padres y Proveedores de Cuidado \nPresented by:\nMary Beth Fadelici \n View Course Description \nQuestions? Call 718.851.3300 ext 157\n[spacer]\n[button text=”Register Now” link=”/NewSite/register” style=”primary” size=”normal” target=”_self” display=”inline” icon=”no”]\n[spacer]
URL:https://challenge-ei.com/event/entrenamiento-cuaderno-de-cuidado-de-salud-915-am-1115-am/
LOCATION:Challenge Early Intervention Center\, 649  39th Street\, Brooklyn\, NY\, 11232\, United States
CATEGORIES:Parent Workshops
ATTACH;FMTTYPE=image/png:https://challenge-ei.com/wp-content/uploads/2017/05/Marybeth-Spanish-2017.png
END:VEVENT
BEGIN:VEVENT
DTSTART;TZID=America/New_York:20170524T114500
DTEND;TZID=America/New_York:20170524T134500
DTSTAMP:20260423T215827
CREATED:20170505T145030Z
LAST-MODIFIED:20190612T172547Z
UID:2780-1495626300-1495633500@challenge-ei.com
SUMMARY:Health Care Notebook Training  11:45 am - 1:45 pm
DESCRIPTION:Health Care Notebook Training\nA Free Workshop for Parents and Caregivers \nPresented by:\nMary Beth Fadelici \n View Course Description \nQuestions? Call 718.851.3300 ext 157\n[spacer]\n[button text=”Register Now” link=”/NewSite/register” style=”primary” size=”normal” target=”_self” display=”inline” icon=”no”]\n[spacer]
URL:https://challenge-ei.com/event/health-care-notebook-training/
LOCATION:NY
CATEGORIES:Parent Workshops
ATTACH;FMTTYPE=image/png:https://challenge-ei.com/wp-content/uploads/2017/05/Marybeth-Eng-May-2017.png
END:VEVENT
BEGIN:VEVENT
DTSTART;TZID=America/New_York:20170524T091500
DTEND;TZID=America/New_York:20170524T111500
DTSTAMP:20260423T215827
CREATED:20170505T151757Z
LAST-MODIFIED:20180326T154851Z
UID:2793-1495617300-1495624500@challenge-ei.com
SUMMARY:Entrenamiento “Cuaderno De Cuidado De Salud“ 9:15 am - 11:15 am
DESCRIPTION:Enrenamiento “Cuaderno De Cuidado De Salud”\nUn taller gratis para Padres y Proveedores de Cuidado \nPresented by:\nMary Beth Fadelici \n View Course Description \nQuestions? Call 718.851.3300 ext 157\n[spacer]\n[button text=”Register Now” link=”/NewSite/register” style=”primary” size=”normal” target=”_self” display=”inline” icon=”no”]\n[spacer]
URL:https://challenge-ei.com/event/entrenamiento-cuaderno-de-cuidado-de-salud-915-am-1115-am-2/
LOCATION:Challenge Early Intervention Center\, 649  39th Street\, Brooklyn\, NY\, 11232\, United States
CATEGORIES:Parent Workshops
ATTACH;FMTTYPE=image/png:https://challenge-ei.com/wp-content/uploads/2017/05/Marybeth-Spanish-2017.png
END:VEVENT
BEGIN:VEVENT
DTSTART;TZID=America/New_York:20170524T091500
DTEND;TZID=America/New_York:20170524T111500
DTSTAMP:20260423T215827
CREATED:20170505T144722Z
LAST-MODIFIED:20180326T154856Z
UID:2778-1495617300-1495624500@challenge-ei.com
SUMMARY:Heath Care Notebook Training  9:15 am - 11:15 am
DESCRIPTION:Health Care Notebook Training\nA Free Workshop for Parents and Caregivers \nPresented by:\nMary Beth Fadelici \n View Course Description \nQuestions? Call 718.851.3300 ext 157\n[spacer]\n[button text=”Register Now” link=”/NewSite/register” style=”primary” size=”normal” target=”_self” display=”inline” icon=”no”]\n[spacer]
URL:https://challenge-ei.com/event/heath-care-notebook-training/
LOCATION:Challenge Early Intervention Center\, 649  39th Street\, Brooklyn\, NY\, 11232\, United States
CATEGORIES:Parent Workshops
ATTACH;FMTTYPE=image/png:https://challenge-ei.com/wp-content/uploads/2017/05/Marybeth-Eng-May-2017.png
END:VEVENT
BEGIN:VEVENT
DTSTART;TZID=America/New_York:20170521T083000
DTEND;TZID=America/New_York:20170521T160000
DTSTAMP:20260423T215827
CREATED:20170322T181242Z
LAST-MODIFIED:20180326T154904Z
UID:2736-1495355400-1495382400@challenge-ei.com
SUMMARY:Applied Behavior Analysis\, 3 Day Course - May 21\, Jun 11 & Jun 18
DESCRIPTION:[row]\n[span4][/span4] \n[span8][WPSM_COLORBOX id=2753] \nPresented by:\nMary McDonald\, PhD\, BCBA-D \n View Course Description \nCourse meets NYS DOH requirements for Early Childhood Training\n18 NBCOT PDUs\, 21.6 NYPTA CEUs\, 18 NJBPTE CEUs\, 1.8 ASHA CEUs (Level: Introductory) (Area: Professional)\, 18 Hrs Continuing Education for Licensed Social Workers * \n* Ateres Mordechai/Challenge Early Intervention Center SW CPE is recognized by the NYSED State Board for Social Work as an approved provider of continuing education for licensed social workers # 0193 \nQuestions? Call 718.851.3300 ext 155\n[spacer]\n[button text=”Register Now” link=”/register” style=”primary” size=”normal” target=”_self” display=”inline” icon=”no”][/span8][/row]\n[spacer]
URL:https://challenge-ei.com/event/applied-behavior-analysis/
LOCATION:Challenge Early Intervention Center\, 649  39th Street\, Brooklyn\, NY\, 11232\, United States
CATEGORIES:Professional CEU Workshops
ATTACH;FMTTYPE=image/png:https://challenge-ei.com/wp-content/uploads/2017/03/Mary-1-2.png
END:VEVENT
BEGIN:VEVENT
DTSTART;TZID=America/New_York:20170504T114500
DTEND;TZID=America/New_York:20170504T134500
DTSTAMP:20260423T215827
CREATED:20170322T174525Z
LAST-MODIFIED:20180326T154910Z
UID:2729-1493898300-1493905500@challenge-ei.com
SUMMARY:Medicaid Service Coordination\, 11:45 am - 1:45 pm
DESCRIPTION:Medicaid Service Coordination and other OPWDD Services for Young Children \nPresented by:\nMary Beth Fadelici \n View Course Description \n  \nQuestions? Call 718.851.3300 ext 155\n[spacer]\n[button text=”Register Now” link=”/NewSite/register” style=”primary” size=”normal” target=”_self” display=”inline” icon=”no”]\n[spacer]
URL:https://challenge-ei.com/event/medicaid-service-coordination-and-other-opwdd-service-for-young-children/
LOCATION:Challenge Early Intervention Center\, 649  39th Street\, Brooklyn\, NY\, 11232\, United States
CATEGORIES:Parent Workshops
ATTACH;FMTTYPE=image/png:https://challenge-ei.com/wp-content/uploads/2017/03/Medicaid-Service-Coordination2017.png
END:VEVENT
BEGIN:VEVENT
DTSTART;TZID=America/New_York:20170504T091500
DTEND;TZID=America/New_York:20170504T111500
DTSTAMP:20260423T215827
CREATED:20170322T173659Z
LAST-MODIFIED:20180326T154915Z
UID:2727-1493889300-1493896500@challenge-ei.com
SUMMARY:Medicaid Service Coordination\, 9:15 am - 11:15 am
DESCRIPTION:Medicaid Service Coordination and other OPWDD Services for Young Children \nPresented by:\nMary Beth Fadelici \n View Course Description \n  \nQuestions? Call 718.851.3300 ext 155\n[spacer]\n[button text=”Register Now” link=”/NewSite/register” style=”primary” size=”normal” target=”_self” display=”inline” icon=”no”]\n[spacer]
URL:https://challenge-ei.com/event/medicaid-service-coordination-and-other-opwdd-services-for-young-children/
LOCATION:Challenge Early Intervention Center\, 649  39th Street\, Brooklyn\, NY\, 11232\, United States
CATEGORIES:Parent Workshops
ATTACH;FMTTYPE=image/png:https://challenge-ei.com/wp-content/uploads/2017/03/Medicaid-Service-Coordination2017.png
END:VEVENT
BEGIN:VEVENT
DTSTART;TZID=America/New_York:20170502T171500
DTEND;TZID=America/New_York:20170502T210000
DTSTAMP:20260423T215827
CREATED:20170206T182307Z
LAST-MODIFIED:20180326T154926Z
UID:2698-1493745300-1493758800@challenge-ei.com
SUMMARY:Effective Toilet Training for Young Children
DESCRIPTION:Effective Toilet Training for Young Children\nWith Autism Spectrum Disorders and Other Developmental Disabilities \nPresented by:\nDr Frank Cicero PhD\, BCBA\, LBA \n View Course Description \nCourse meets NYC DOH requirements for Early Childhood Training\n3.5 Type 2 BCBA/BCABA CEUs\, 3.0 NBCOT PDUs\, 3.0 hours of Continuing Education for Licensed Social Workers \nQuestions? Call 718.851.3300 ext 157\n[spacer]\n[button text=”Register Now” link=”/NewSite/register” style=”primary” size=”normal” target=”_self” display=”inline” icon=”no”]\n[spacer]
URL:https://challenge-ei.com/event/effective-toilet-training-for-young-children/
LOCATION:Challenge Early Intervention Center\, 649  39th Street\, Brooklyn\, NY\, 11232\, United States
CATEGORIES:Professional CEU Workshops
ATTACH;FMTTYPE=image/png:https://challenge-ei.com/wp-content/uploads/2017/02/Frank-Cicero-1.png
END:VEVENT
BEGIN:VEVENT
DTSTART;TZID=America/New_York:20170430T083000
DTEND;TZID=America/New_York:20170430T160000
DTSTAMP:20260423T215827
CREATED:20170131T164840Z
LAST-MODIFIED:20180326T154922Z
UID:2689-1493541000-1493568000@challenge-ei.com
SUMMARY:Sensory Smart Strategies
DESCRIPTION:Sensory Smart Strategies\nfor Real-Life Challenges \nPresented by:\nLindsey Biel\, OTR/L \n View Course Description \nCourse meets NYC DOH requirements for Early Childhood Training\n0.6 ASHA CEUs\, 6.0 NBCOT PDUs\, 7.2 NYPTA CEUs\, 6.0 NJBPTE CEUs\, 6.0 hours of Continuing Education for licensed Social Workers \nQuestions? Call 718.851.3300 ext 157\n[spacer]\n[button text=”Register Now” link=”/NewSite/register” style=”primary” size=”normal” target=”_self” display=”inline” icon=”no”]\n[spacer]
URL:https://challenge-ei.com/event/sensory-smart-strategies/
LOCATION:PS 37\, 15 Fairfield Street\, Staten Island\, NY\, 10308\, United States
CATEGORIES:Professional CEU Workshops
ATTACH;FMTTYPE=image/png:https://challenge-ei.com/wp-content/uploads/2017/01/Lindsey-Biel-Oct2017-1-3.png
END:VEVENT
BEGIN:VEVENT
DTSTART;TZID=UTC:20170212T083000
DTEND;TZID=UTC:20170212T160000
DTSTAMP:20260423T215827
CREATED:20161207T220209Z
LAST-MODIFIED:20180326T154932Z
UID:2657-1486888200-1486915200@challenge-ei.com
SUMMARY:Feeding Problems in Young Children
DESCRIPTION:Feeding Problems in Young Children\nA Motor Learning Approach to Treatment \nPresented by:\nGenie Rogers MA CCC-SLP\, BCS-S \n View Course Description \nCourse meets NYS DOH requirements for Early Childhood Training\n0.6 ASHA CEUs\, 6.0 NBCOT PDUs\, 6.0 NYPTA CEUs\, for Social Workers \nQuestions? Call 718.851.3300 ext 155\n[spacer]\n[button text=”Register Now” link=”/NewSite/register” style=”primary” size=”normal” target=”_self” display=”inline” icon=”no”]\n[spacer]
URL:https://challenge-ei.com/event/feeding-problems-in-young-children/
LOCATION:Challenge Early Intervention Center\, 649  39th Street\, Brooklyn\, NY\, 11232\, United States
CATEGORIES:Professional CEU Workshops
ATTACH;FMTTYPE=image/png:https://challenge-ei.com/wp-content/uploads/2016/12/Genie-Rogers-1-1.png
END:VEVENT
BEGIN:VEVENT
DTSTART;TZID=UTC:20170201T171500
DTEND;TZID=UTC:20170201T210000
DTSTAMP:20260423T215827
CREATED:20161207T215126Z
LAST-MODIFIED:20180326T154937Z
UID:2647-1485969300-1485982800@challenge-ei.com
SUMMARY:Do It Yourself Sensory Toys
DESCRIPTION:Presented by:\nDenise Taddonia MS Ed\, CAS\nCertified Autism Specialist\, Licensed Play Project Consultant\nRose Marcotrigiano-Bruno MA\nWorkshop Assistant \n View Course Description \nCourse meets NYS DOH requirements for Early Childhood Training\n0.3 ASHA CEUs\, 3.0 NBCOT PDUs\, 3.6 NYPTA CEUs\,\n3.0 NJBPTE CEUs\, 3.0 NYSED Approved CEUs for Social Workers \nQuestions? Call Shoshana at 718.851.3300 ext 155\n[spacer]\n[button text=”Register Now” link=”/register” style=”primary” size=”normal” target=”_self” display=”inline” icon=”no”]\n[spacer]
URL:https://challenge-ei.com/event/do-it-yourself-sensory-toys-2/
LOCATION:Challenge Early Intervention Center\, 649  39th Street\, Brooklyn\, NY\, 11232\, United States
CATEGORIES:Professional CEU Workshops
ATTACH;FMTTYPE=image/png:https://challenge-ei.com/wp-content/uploads/2016/12/toymakingdouble-1.png
END:VEVENT
BEGIN:VEVENT
DTSTART;TZID=UTC:20161120T083000
DTEND;TZID=UTC:20161120T160000
DTSTAMP:20260423T215827
CREATED:20161027T200747Z
LAST-MODIFIED:20180326T154952Z
UID:2515-1479630600-1479657600@challenge-ei.com
SUMMARY:Infant/Toddler Assessment Principles and Techniques
DESCRIPTION:Presented by: Dr. Louis Rosetti\nAuthor of the Rossetti Infant-Toddler Language Scale \n View Course Description \nCourse meets NYS DOH requirements for Early Childhood Training\n0.6 ASHA CEUs\, 6.0 NBCOT PDUs\, 7.2 NYPTA CEUs\,\n6.0 NJBPTE CEUs\, 6.0 NYSED Approved CEUs for Social Workers \nQuestions? Call Shoshana at 718.851.3300 ext 155\n[spacer]\n[button text=”Register Now” link=”/NewSite/register” style=”primary” size=”normal” target=”_self” display=”inline” icon=”no”]\n[spacer]
URL:https://challenge-ei.com/event/infanttoddler-assessment-principles-and-techniques/
LOCATION:Young Israel of Hillcrest\, 169-07 Jewel Avenue\,\, Flushing\, NY\, 11365\, United States
CATEGORIES:Professional CEU Workshops
ATTACH;FMTTYPE=image/png:https://challenge-ei.com/wp-content/uploads/2016/10/Louis-Rossetti2016-nov-1.png
END:VEVENT
BEGIN:VEVENT
DTSTART;TZID=UTC:20161109T171500
DTEND;TZID=UTC:20161109T210000
DTSTAMP:20260423T215827
CREATED:20161027T201650Z
LAST-MODIFIED:20180326T155005Z
UID:2517-1478711700-1478725200@challenge-ei.com
SUMMARY:Do It Yourself Sensory Toys
DESCRIPTION:Creating Toys That Stimulate Sensory Development \nPresented by:\nDenise Taddonio MS Ed\, CAS\nCertified Autism Specialist\, Licensed Play Project Consultant\nRose Marcotrigiano-Bruno MA\nWorkshop Assistant \n View Course Description \nCourse meets NYS DOH requirements for Early Childhood Training\n0.3 ASHA CEUs\, 3.0 NBCOT PDUs\, 3.6 NYPTA CEUs\,\n3.0 NJBPTE CEUs\, 3.0 NYSED CEUs for Social Workers \nQuestions? Call Shoshana at 718.851.3300 ext 155\n[spacer]\n[button text=”Register Now” link=”/NewSite/register” style=”primary” size=”normal” target=”_self” display=”inline” icon=”no”]\n[spacer]
URL:https://challenge-ei.com/event/do-it-yourself-sensory-toys/
LOCATION:Challenge Early Intervention Center\, 649  39th Street\, Brooklyn\, NY\, 11232\, United States
ATTACH;FMTTYPE=image/png:https://challenge-ei.com/wp-content/uploads/2016/10/toymakingdouble-1.png
END:VEVENT
BEGIN:VEVENT
DTSTART;TZID=UTC:20160918T083000
DTEND;TZID=UTC:20160918T131500
DTSTAMP:20260423T215827
CREATED:20160617T214501Z
LAST-MODIFIED:20180326T155010Z
UID:2300-1474187400-1474204500@challenge-ei.com
SUMMARY:The Developmental Assessment of Young Children – Second Edition
DESCRIPTION:Presented by: Judy Voress\, PhD & Taddy Maddox\, PhD\nAuthors of the DAYC and DAYC-2 \n View Course Description \nCourse meets NYS DOH requirements for Early Childhood Training .4 ASHA CEUs \nQuestions? Call Shoshana at 718.851.3300 ext 155\n[spacer]\n[button text=”Register Now” link=”/NewSite/register” style=”primary” size=”normal” target=”_self” display=”inline” icon=”no”]\n[spacer]
URL:https://challenge-ei.com/event/the-developmental-assessment-of-young-children-second-edition/
LOCATION:Young Israel of Hillcrest\, 169-07 Jewel Avenue\,\, Flushing\, NY\, 11365\, United States
CATEGORIES:Professional CEU Workshops
ATTACH;FMTTYPE=image/png:https://challenge-ei.com/wp-content/uploads/2016/06/DAYC2016-1.png
END:VEVENT
BEGIN:VEVENT
DTSTART;TZID=UTC:20160911T083000
DTEND;TZID=UTC:20160911T163000
DTSTAMP:20260423T215827
CREATED:20160622T191719Z
LAST-MODIFIED:20180326T155015Z
UID:2342-1473582600-1473611400@challenge-ei.com
SUMMARY:Focus on Treatment Of Infants\, Toddlers and Young Children with Neurological Involvement
DESCRIPTION:Presented by: Kristen Birkmeier\, MS PT\, C/KTP \nA One Day Advanced Level Workshop for the Pediatric PT and OT \n View Course Description \n7.2 NYPTA CEUs\, 6 NJBPTE CEUs\, 6 NBCOT PDUs \nQuestions?  Call Shoshana at 718.851.3300 ext 155 \n[spacer]\n[button text=”Register Now” link=”/NewSite/register/” style=”primary” size=”normal” target=”_self” display=”inline” icon=”no”]\n[spacer]
URL:https://challenge-ei.com/event/focus-on-treatment-of-infants-toddlers-and-young-children-with-neurological-involvement/
LOCATION:Challenge Early Intervention Center\, 649  39th Street\, Brooklyn\, NY\, 11232\, United States
CATEGORIES:Professional CEU Workshops
ATTACH;FMTTYPE=image/png:https://challenge-ei.com/wp-content/uploads/2016/06/Focus-on-Treatment-2016-1.png
END:VEVENT
BEGIN:VEVENT
DTSTART;TZID=UTC:20160727T171500
DTEND;TZID=UTC:20160727T210000
DTSTAMP:20260423T215827
CREATED:20160509T235843Z
LAST-MODIFIED:20180326T155020Z
UID:2229-1469639700-1469653200@challenge-ei.com
SUMMARY:Joint Attention in Children With Autism Spectrum Disorder
DESCRIPTION:Presented by: Dana Battaglia\, PhD\, CCC-SLP & Mary McDonald\, PhD\, BCBA-D\n \n View PDF \nCourse meets NYS DOH requirements for Early Childhood Training \n.3 ASHA CEUs 3 NBCOT PDUs\, 3.5 Type 2 BCBA/BCABC CEUs\, 3.0 NYSED SW CEUs 3.0 NJBPTE CEUs\, 3.6 NYPTA CEUs \nFor More Information\, Course Fees & Registration\,\nPlease Call Angela at 718.851.3300 ext 157 \n[spacer]\n[button text=”Register Now” link=”#” style=”primary” size=”normal” target=”_self” display=”inline” icon=”no”]\n[spacer]
URL:https://challenge-ei.com/event/dana-battaglia-phd-ccc-slp-mary-mcdonald-phd-bcba-d/
LOCATION:Young Israel of Hillcrest\, 169-07 Jewel Avenue\,\, Flushing\, NY\, 11365\, United States
CATEGORIES:Professional CEU Workshops
ATTACH;FMTTYPE=image/png:https://challenge-ei.com/wp-content/uploads/2016/05/Dana-Battaglia2016-small.png
END:VEVENT
BEGIN:VEVENT
DTSTART;TZID=UTC:20160713T171500
DTEND;TZID=UTC:20160713T210000
DTSTAMP:20260423T215827
CREATED:20160510T000128Z
LAST-MODIFIED:20180326T155030Z
UID:2230-1468430100-1468443600@challenge-ei.com
SUMMARY:How to Complete a Functional Behavior Assessment (FBA)
DESCRIPTION:Presented by: Anya K Silver MA\, BCBA\n \n View PDF \nCourse meets NYS DOH requirements for Early Childhood \n.3 ASHA CEUs\, 3.5 Type 2 BCBA/BCABC CEUs\, 3 NBCOT PDUs\,  3.0 NYSED CEUs for SW\,  3.0 NJBPTE CEUs\, 3.6 NYPTA CEUs \nFor More Information\, Course Fees & Registration\,\nPlease Call Angela at 718.851.3300 ext 157 \n[spacer]\n[button text=”Register Now” link=”#” style=”primary” size=”normal” target=”_self” display=”inline” icon=”no”]\n[spacer]
URL:https://challenge-ei.com/event/anya-k-silver-ma-bcba/
LOCATION:Challenge Early Intervention Center\, 649  39th Street\, Brooklyn\, NY\, 11232\, United States
CATEGORIES:Professional CEU Workshops
ATTACH;FMTTYPE=image/png:https://challenge-ei.com/wp-content/uploads/2016/05/Anyasilver2016-1-small.png
END:VEVENT
BEGIN:VEVENT
DTSTART;TZID=UTC:20160522T083000
DTEND;TZID=UTC:20160522T160000
DTSTAMP:20260423T215827
CREATED:20160412T185611Z
LAST-MODIFIED:20180326T155035Z
UID:2221-1463905800-1463932800@challenge-ei.com
SUMMARY:Dr Louis Rossetti\, PhD
DESCRIPTION:Developmental Assessment and Enhancement of Parent/Caregiver Involvement\nFor Infants and Toddlers with Special Needs \nPresented by: Dr Louis Rossetti\, PhD\nAuthor of the Rossetti Infant-Toddler Language Scale \n View PDF \n[button text=”Register” style=”default” size=”normal” target=”_self” display=”inline” icon=”no”]
URL:https://challenge-ei.com/event/developmental-assessment-and-enhancement-of-parentcaregiver-involvement-for-infants-and-toddlers-with-special-needs/
LOCATION:Young Israel of Hillcrest\, 169-07 Jewel Avenue\,\, Flushing\, NY\, 11365\, United States
CATEGORIES:Professional CEU Workshops
ATTACH;FMTTYPE=image/png:https://challenge-ei.com/wp-content/uploads/2016/04/Louis-Rossetti2016-sm.png
END:VEVENT
END:VCALENDAR